BEGIN:VCALENDAR
VERSION:2.0
PRODID:-// - ECPv6.15.20//NONSGML v1.0//EN
CALSCALE:GREGORIAN
METHOD:PUBLISH
X-ORIGINAL-URL:https://crdanca.prefeitura.sp.gov.br
X-WR-CALDESC:Eventos para 
REFRESH-INTERVAL;VALUE=DURATION:PT1H
X-Robots-Tag:noindex
X-PUBLISHED-TTL:PT1H
BEGIN:VTIMEZONE
TZID:America/Sao_Paulo
BEGIN:STANDARD
TZOFFSETFROM:-0200
TZOFFSETTO:-0300
TZNAME:-03
DTSTART:20190217T020000
END:STANDARD
END:VTIMEZONE
BEGIN:VEVENT
DTSTART;TZID=America/Sao_Paulo:20200128T180000
DTEND;TZID=America/Sao_Paulo:20200128T180000
DTSTAMP:20260421T164034
CREATED:20200110T223824Z
LAST-MODIFIED:20200114T201909Z
UID:693-1580234400-1580234400@crdanca.prefeitura.sp.gov.br
SUMMARY:DISSOLUÇÃO FESTIVA: GERAÇÃO Z
DESCRIPTION:O espetáculo performativo de dança\, música e teatro\, com influência do shitposting e do pensamento insurgente\, se edifica com os universos de referência da geração z. Procura\, num misto de linguagens\, expressar uma multiplicidade caótica que convém a vida dos jovens metropolitanos nascidos a partir de 95. \nDireção geral: Tadzio Veiga\nDireção musical: Vinícius Andrade\nPerformance de corpo: Débora Silva\, Gabriela Vinci\, Giorgia Tolaini\, Hugo Leão\, Pedro Athié e Tadzio Veiga\nLuz: Evandro Zampieri. \nFoyer e Sala Plural\n28/1\, terça às 18h / Gratuito / 16 anos / 50 min. \nRedes Sociais:\n@tadziojv @teatrodamatilha\n#dissolucaofestiva
URL:https://crdanca.prefeitura.sp.gov.br/evento/dissolucao-festiva-geracao-z/
ATTACH;FMTTYPE=image/jpeg:https://crdanca.prefeitura.sp.gov.br/wp-content/uploads/2020/01/16-Performance-Dissolução-Festiva.jpg
END:VEVENT
BEGIN:VEVENT
DTSTART;TZID=America/Sao_Paulo:20200128T110000
DTEND;TZID=America/Sao_Paulo:20200128T110000
DTSTAMP:20260421T164034
CREATED:20200110T223423Z
LAST-MODIFIED:20200114T201020Z
UID:690-1580209200-1580209200@crdanca.prefeitura.sp.gov.br
SUMMARY:SER COLO
DESCRIPTION:abertura do processo do espetáculo de dança para bebês de 0 a 3 anos e seus acompanhantes (mães\, pais e familiares)\, além de doulas\, obstetrizes\, educadores e demais interessados em dança para bebês\, crianças e no vínculo mãe-bebê. Por meio de uma dança quase simbiótica\, as dançarinas mães possibilitam um recorte sensível sobre a relação entre mãe e filha\, sobre a fusão destes dois corpos no momento do pós-parto e as descobertas e rupturas de mãe e filha. \nInterpretação e concepção: Beatriz Miguez e Larissa Pretti\nTrilha sonora: Danilo Gusmão \nSala Cênica\n28/1\, terça às 11h / Gratuito / Livre/ 30 min. \nRedes Sociais:\n@beatrizmiguezz @larissapretti
URL:https://crdanca.prefeitura.sp.gov.br/evento/ser-colo/
ATTACH;FMTTYPE=image/jpeg:https://crdanca.prefeitura.sp.gov.br/wp-content/uploads/2020/01/15-Cênica-Ser-Colo-Larissa-Pretti.jpg
END:VEVENT
BEGIN:VEVENT
DTSTART;TZID=America/Sao_Paulo:20200125T200000
DTEND;TZID=America/Sao_Paulo:20200125T200000
DTSTAMP:20260421T164034
CREATED:20200109T204540Z
LAST-MODIFIED:20200114T201518Z
UID:660-1579982400-1579982400@crdanca.prefeitura.sp.gov.br
SUMMARY:O LIVRO DAS ÁGUAS
DESCRIPTION:A proposta do experimento cênico é associar a liberdade de mover o corpo inspirada pelas dinâmicas de fluxo das águas identificadas por Leonardo Da Vinci\, suportadas por uma ocupação do espaço seguindo desenhos geométricos inspirados em ilustrações. Tudo isso permeado por alguns textos do renascentista que usam a metáfora da água para investigar os movimentos da vida e experimentações sonoras realizadas ao vivo. \nConcepção e interpretação: Beto Amorim e João Diniz \nSala Cênica\n25/1\, sábado às 20h / Gratuito/ Livre \nRedes Sociais:\n@betoamorimgomes
URL:https://crdanca.prefeitura.sp.gov.br/evento/o-livro-das-aguas/
ATTACH;FMTTYPE=image/jpeg:https://crdanca.prefeitura.sp.gov.br/wp-content/uploads/2020/01/14-Cênica-O-Livro-das-Àguas-Beto-Amorim.jpg
END:VEVENT
BEGIN:VEVENT
DTSTART;TZID=America/Sao_Paulo:20200125T190000
DTEND;TZID=America/Sao_Paulo:20200125T190000
DTSTAMP:20260421T164034
CREATED:20200108T014322Z
LAST-MODIFIED:20200114T200645Z
UID:634-1579978800-1579978800@crdanca.prefeitura.sp.gov.br
SUMMARY:PARA SE VER O QUE É POSSÍVEL 
DESCRIPTION:A performance de dança criada em tempo real tem o intuito de ativar\, ressignificar e valorizar espaços internos e equipamentos públicos e institucionais da cidade\, dando visibilidade às suas especificidades. Expande a relação público com estes espaços e aproxima as pessoas de experiências poéticas em dança\, criando um “intervalo para se ver o que é possível”. \nCompanhia Flutuante\, com criação de Leticia Sekito. \nSala Seis\n25/1\, sábado às 19h\, 19h40 e 20h20 / Gratuito / Livre / 40 min. \nRedes Sociais:\n@leticiasekito
URL:https://crdanca.prefeitura.sp.gov.br/evento/para-se-ver-o-que-e-possivel/
ATTACH;FMTTYPE=image/jpeg:https://crdanca.prefeitura.sp.gov.br/wp-content/uploads/2020/01/13-Performance-Para-se-ver-o-que-é-possível-Leticia-Sekito.jpg
END:VEVENT
BEGIN:VEVENT
DTSTART;TZID=America/Sao_Paulo:20200124T200000
DTEND;TZID=America/Sao_Paulo:20200124T200000
DTSTAMP:20260421T164034
CREATED:20200109T203508Z
LAST-MODIFIED:20200114T200422Z
UID:657-1579896000-1579896000@crdanca.prefeitura.sp.gov.br
SUMMARY:(DIZ)CARREGO
DESCRIPTION:Neste primeiro experimento\, o espetáculo leva à cena possibilidades de como (re)carregar e (diz)carregar as energias\, e com isso estimular canais abertos para se curar e (re)começar.\nConcepção: Coletivo Ara Ijó\nIntérpretes: Amanda Prates\, Ingrid Marucci e Thico Lopes \nSala Cênica\n24/1\, sexta às 20h / Gratuito / Livre / 50 min. \nRedes sociais:\n@coletivoaraijo\n#(DIZ)CARREGO #ancestralidade #corporeidade #preto #coletivoaraijo
URL:https://crdanca.prefeitura.sp.gov.br/evento/dizcarrego/
ATTACH;FMTTYPE=image/jpeg:https://crdanca.prefeitura.sp.gov.br/wp-content/uploads/2020/01/12-Cênica-DizCarrego_Ara-Ijó.jpg
END:VEVENT
BEGIN:VEVENT
DTSTART;TZID=America/Sao_Paulo:20200124T180000
DTEND;TZID=America/Sao_Paulo:20200124T180000
DTSTAMP:20260421T164034
CREATED:20200108T013810Z
LAST-MODIFIED:20200114T200202Z
UID:631-1579888800-1579888800@crdanca.prefeitura.sp.gov.br
SUMMARY:METRÓPOLE
DESCRIPTION:Concepção inspirada na obra “O que o sol faz com as flores”\, de Rupi Kaur. As artistas da dança Stéphanie e Vanessa conceberam\, junto aos artistas Bru Fotin e Ricardo Januário\, uma videodança experimental que relaciona o efeito dos seus próprios movimentos com a cidade de São Paulo e o entardecer da primavera. \nCriação: Stéphanie Fretin e Vanessa Hassegawa\nDireção de movimento: Ricardo Januário\nInstalação de vídeo e direção de videodança: Bru Fotin \nSala Plural\n24/1\, sexta às 19h / Gratuito / Livre / 20 min. \nRedes sociais:\n@vanessa_hassegawa @stephaniefretin
URL:https://crdanca.prefeitura.sp.gov.br/evento/metropole/
ATTACH;FMTTYPE=image/jpeg:https://crdanca.prefeitura.sp.gov.br/wp-content/uploads/2020/01/11-Performance-Metrópole.jpg
END:VEVENT
BEGIN:VEVENT
DTSTART;TZID=America/Sao_Paulo:20200124T173000
DTEND;TZID=America/Sao_Paulo:20200124T173000
DTSTAMP:20260421T164034
CREATED:20200109T210833Z
LAST-MODIFIED:20200114T200019Z
UID:666-1579887000-1579887000@crdanca.prefeitura.sp.gov.br
SUMMARY:BAILE CONTEMPORÂNEO
DESCRIPTION:Não é necessário saber dançar para participar do Baile Contemporâneo de Dança de Salão proposto pela Dois Rumos Cia de Dança. A experiência começa com uma vivência corporal que cria atmosfera acolhedora e espontânea ao som de samba\, bolero\, forró e outros ritmos. \nFacilitadores: Andressa Malerba\, Camila Aguiar\, Carlos Araújo\, Fernanda Conde\, Kelly Poli e Tony Rubinho \nFonte dos Desejos\n24/1\, sexta às 17h30 / Gratuito / Livre \nRedes Sociais:\n@doisrumos
URL:https://crdanca.prefeitura.sp.gov.br/evento/baile-contemporaneo/
ATTACH;FMTTYPE=image/jpeg:https://crdanca.prefeitura.sp.gov.br/wp-content/uploads/2020/01/10-Fonte-Baile-contemporâneo.jpg
END:VEVENT
BEGIN:VEVENT
DTSTART;TZID=America/Sao_Paulo:20200124T100000
DTEND;TZID=America/Sao_Paulo:20200128T200000
DTSTAMP:20260421T164034
CREATED:20200110T181844Z
LAST-MODIFIED:20200114T195345Z
UID:685-1579860000-1580241600@crdanca.prefeitura.sp.gov.br
SUMMARY:O SOL ESCONDIDO
DESCRIPTION:O vídeo produzido pelos artistas Claudia Piassi e Edu Guimarães faz parte de “O Sol Escondido”\, peça de dança contemporânea em desenvolvimento que se inspira na vida e obra do cantor e compositor Nick Drake.\nArtistas criadores: Claudia Piassi e Edu Guimarães\nMúsica: Nick Drake \nFoyer\nDe 24/1 a 28/1\, das 10h às 20h / Gratuito / LIvre \nRedes Sociais:\n@claudiapiassi
URL:https://crdanca.prefeitura.sp.gov.br/evento/o-sol-escondido/
ATTACH;FMTTYPE=image/jpeg:https://crdanca.prefeitura.sp.gov.br/wp-content/uploads/2020/01/9-Exposição-O-sol-escondido.jpg
END:VEVENT
BEGIN:VEVENT
DTSTART;TZID=America/Sao_Paulo:20200123T190000
DTEND;TZID=America/Sao_Paulo:20200123T190000
DTSTAMP:20260421T164034
CREATED:20200109T203021Z
LAST-MODIFIED:20200114T195530Z
UID:653-1579806000-1579806000@crdanca.prefeitura.sp.gov.br
SUMMARY:FIOS
DESCRIPTION:A proposta é o resultado de um estudo que a Cia Queremos Saber Artes do Corpo desenvolve sobre a dramaturgia do corpo e da dança. A Cia entende que\, ao estudar os modos de fazer dança contemporânea\, socializar os resultados dos estudos em formato cênico e abrir para uma troca com o público\, se contribui para o fomento da produção cultural da dança na cidade. \nIntérprete criadora: Paulina Alves\nDramaturgista: Pin Nogueira\nProdução executiva: Isadora Massoni\nCriação e operação de luz: Clóvis Lima \nSala Cênica\n23/1\, quinta às 19h / Gratuito / Livre / 20 min. + bate-papo \n  \nRedes Sociais:\n@cia queremos saber_artes do corpo\n@ciaqueremossaber
URL:https://crdanca.prefeitura.sp.gov.br/evento/fios/
ATTACH;FMTTYPE=image/jpeg:https://crdanca.prefeitura.sp.gov.br/wp-content/uploads/2020/01/8-Cênica-Fios-Cia-querer-saber.jpg
END:VEVENT
BEGIN:VEVENT
DTSTART;TZID=America/Sao_Paulo:20200123T180000
DTEND;TZID=America/Sao_Paulo:20200123T180000
DTSTAMP:20260421T164034
CREATED:20200108T013348Z
LAST-MODIFIED:20200114T195700Z
UID:628-1579802400-1579802400@crdanca.prefeitura.sp.gov.br
SUMMARY:TER(E)MIM VS. 0.1
DESCRIPTION:Processo artístico que está sendo construído por tateios procura explorar as relações de espacialidade e temporalidade no som e na dança a fim de revelar\, transpor\, extrapor e reinventar o espaço real na fronteira tênue entre ficção e realidade. \nFicha técnica: Coletivo Elástica – Criação e performance: Mariana Costa e Daniel Conti\nColaboração e provocação artística: Korina Kordova\nColaboração na concepção inicial: Larissa Ballarotti\nApoio: Casa Líquida\nAgradecimentos: Ane Tavares\, Fernando Toffoli\, Julia Feldens\, Julia Teles\, \nSala Plural\n23/1\, quinta às 18h / Gratuito / Livre / 35 min. \n  \nRedes sociais:\n@coletivoelastica\n#teremimvs01 #coletivoelastica #movimentoimanente
URL:https://crdanca.prefeitura.sp.gov.br/evento/teremim-vs-0-1/
ATTACH;FMTTYPE=image/jpeg:https://crdanca.prefeitura.sp.gov.br/wp-content/uploads/2020/01/5-Coletivo-Elastica-teremim-vs.jpg
END:VEVENT
BEGIN:VEVENT
DTSTART;TZID=America/Sao_Paulo:20200123T173000
DTEND;TZID=America/Sao_Paulo:20200123T173000
DTSTAMP:20260421T164034
CREATED:20200109T205909Z
LAST-MODIFIED:20200114T194830Z
UID:663-1579800600-1579800600@crdanca.prefeitura.sp.gov.br
SUMMARY:MANÉ BONECO
DESCRIPTION:A intervenção dialoga com a beleza e a simplicidade do brincar. Esse é o mais recente trabalho de intervenção urbana do grupo Zumb.boys\, inspirado no boneco brasileiro Mané Gostoso\, que fez e faz parte da infância de muitas pessoas. Facilmente encontrado nas feiras nordestinas\, é feito de madeira com pernas e braços articulados\, movimentados por cordões. \nDireção: Márcio Greyk de Lima Ferreira\nDançarinos: Danilo Rodrigo Ferreira Nonato\, David Castro Serra\, Ednelson da Silva Guedes\, Eriki Hideki\, Igor Wilson de Souza e Márcio Greyk de Lima Ferreira \nFonte dos Desejos\n23/01\, quinta às 17h30 / Gratuito / Livre / 40 min. \nRedes Sociais:\n@grupozumbboys
URL:https://crdanca.prefeitura.sp.gov.br/evento/mane-boneco/
ATTACH;FMTTYPE=image/jpeg:https://crdanca.prefeitura.sp.gov.br/wp-content/uploads/2020/01/6-Fonte-mané-boneco.jpg
END:VEVENT
BEGIN:VEVENT
DTSTART;TZID=America/Sao_Paulo:20200122T190000
DTEND;TZID=America/Sao_Paulo:20200122T190000
DTSTAMP:20260421T164034
CREATED:20200109T202316Z
LAST-MODIFIED:20200114T195144Z
UID:649-1579719600-1579719600@crdanca.prefeitura.sp.gov.br
SUMMARY:EXISTÊNCIA MINÍMA
DESCRIPTION:Diálogo entre a obra da artista plástica Angela Fernandes e a dança\, investigando as existências mínimas\, o direito de existir e legitimamente ocupar um lugar neste mundo. \nConcepção e interpretação: Odete Machado.\nSala Cênica\n22/1\, quarta às 19h / Gratuito / 18 anos / 35 min. \nRedes Sociais:\n@naciaodetedanca\n@odetemachado
URL:https://crdanca.prefeitura.sp.gov.br/evento/existencia-minima/
ATTACH;FMTTYPE=image/jpeg:https://crdanca.prefeitura.sp.gov.br/wp-content/uploads/2020/01/5-Cênica-Existencia-Minima-Odete-machado.jpg
END:VEVENT
BEGIN:VEVENT
DTSTART;TZID=America/Sao_Paulo:20200122T170000
DTEND;TZID=America/Sao_Paulo:20200122T180000
DTSTAMP:20260421T164034
CREATED:20200103T055357Z
LAST-MODIFIED:20200114T194941Z
UID:605-1579712400-1579716000@crdanca.prefeitura.sp.gov.br
SUMMARY:MELTDOWN AÇÃO #1
DESCRIPTION:A partir de uma construção de existência\, permanência e ampliação dos sentidos\, a ação coletiva própria para espaços amplos reconfigura a paisagem a partir da ação do tempo. A tentativa de seguir sem recursos\, de organizar-se coletivamente para sobreviver. \nIntérpretes Criadores: Felipe Teixeira e Mariana Molinos\nVale do Anhangabaú\n22/1\, quarta às 17h / Gratuito / Livre / 25 min. \n  \nRedes Sociais:\n@felipeteixeiraemarianamolinos
URL:https://crdanca.prefeitura.sp.gov.br/evento/meltdown-acao-1/
ATTACH;FMTTYPE=image/jpeg:https://crdanca.prefeitura.sp.gov.br/wp-content/uploads/2020/01/6-meltdown_-Felipe-Teixeira-e-Mariana-Molinos-_.jpg
END:VEVENT
BEGIN:VEVENT
DTSTART;TZID=America/Sao_Paulo:20200121T190000
DTEND;TZID=America/Sao_Paulo:20200121T190000
DTSTAMP:20260421T164034
CREATED:20200103T054758Z
LAST-MODIFIED:20200114T194650Z
UID:600-1579633200-1579633200@crdanca.prefeitura.sp.gov.br
SUMMARY:Amores que_____
DESCRIPTION:Formado por uma equipe de pessoas trans não binárias\, o espetáculo “Amores que______” é um dos trabalhos que integra a Núclea de Pesquiza Tranzborde. Este primeiro ato bem desenhado aborda o desejo por uma visão Spinoziana e anti-psicanalista\, desaguando em uma transição que mergulha nas primeiras afetuosidades para despontar no ato limbo/flerte. \nDireção: Florido\nSala Cênica \n21/1\, terça às 19h / Gratuito / 16 anos / 50 min. \nRedes sociais: \n@tranzborde\n@floridofogo
URL:https://crdanca.prefeitura.sp.gov.br/evento/amores-que_____/
LOCATION:sala cênica
ATTACH;FMTTYPE=image/jpeg:https://crdanca.prefeitura.sp.gov.br/wp-content/uploads/2020/01/5-Amores-que-____-Victor-Gomes.jpg
END:VEVENT
BEGIN:VEVENT
DTSTART;TZID=America/Sao_Paulo:20200121T180000
DTEND;TZID=America/Sao_Paulo:20200121T180000
DTSTAMP:20260421T164034
CREATED:20200103T055111Z
LAST-MODIFIED:20200114T194433Z
UID:603-1579629600-1579629600@crdanca.prefeitura.sp.gov.br
SUMMARY:Tangô - O corpo histórico
DESCRIPTION:No tango há algo de trágico\, sensual\, envolvente. Há algo de felicidade\, mesmo que triste e melancólico. É cultura de dança social que se manifesta no baile. A produção cultural nasce destes encontros: um caldeirão no qual as histórias se atravessam com dança\, música e poesia. \nFicha técnica: Concepção de Tango na Rua Projetos.\nFoyer\n21/01\, terça às 18h / Gratuito / Livre / 40 min \nRedes Sociais:\n@tangonarua\n#tangonarua
URL:https://crdanca.prefeitura.sp.gov.br/evento/tango-o-corpo-historico/
ATTACH;FMTTYPE=image/jpeg:https://crdanca.prefeitura.sp.gov.br/wp-content/uploads/2020/01/2-Performance-Tango.jpg
END:VEVENT
BEGIN:VEVENT
DTSTART;TZID=America/Sao_Paulo:20200120T100000
DTEND;TZID=America/Sao_Paulo:20200122T200000
DTSTAMP:20260421T164034
CREATED:20200110T181347Z
LAST-MODIFIED:20200114T193803Z
UID:681-1579514400-1579723200@crdanca.prefeitura.sp.gov.br
SUMMARY:VÍDEO DANÇA - CIA QUEREMOS SABER
DESCRIPTION:Mostra do processo inicial de criação de dois vídeosdança da Cia Queremos Saber_Artes do Corpo: “Cantos”\, da intérprete criadora Isadora Massoni\, e “Fios”\, da intérprete criadora Paulina Alves mediado pela dramaturgista Pin Nogueira. Os vídeosdança serão projetados nas paredes do foyer com a presença das artistas em horários esporádicos\, para possíveis conversas sobre os vídeos conforme a necessidade do público. \nConcepção e direção: Pin Nogueira – Cia Queremos Saber_Artes do Corpo\nEdição: AZA Produções\nFoyer\nDe 20/1 a 23/1\, das 10h às 20h / Gratuito / Livre \nRedes Sociais:\n@ciaqueremossaber_artesdocorpo
URL:https://crdanca.prefeitura.sp.gov.br/evento/video-danca-cia-queremos-saber/
ATTACH;FMTTYPE=image/jpeg:https://crdanca.prefeitura.sp.gov.br/wp-content/uploads/2020/01/1-Exposição-Cantos-Cia-Queremos-Saber.jpg
END:VEVENT
END:VCALENDAR